BEGIN:VCALENDAR
VERSION:2.0
PRODID:Events Booking
BEGIN:VEVENT
UID:69e72ce996ea5
SUMMARY:Dussen den Overkant
DESCRIPTION:
 
 
 |      
 
 
 
 Toerrit via Gilze\, Rijen\, K
 aatsheuvel\, Capelle\, Wijk en Aalburg\, Hedel\, Den Bosch\, Helvoirt\, Ha
 aren\, Oisterwijk\, Moergestel\, Tilburg en terug naar Goirle.
 Dussen bl
 ijft aan de overkant liggen\; we steken dus niet (meer) over met het pontj
 e. Vlotter\, en waarschijnlijk veel minder last van de schapenstront.
 

  
 
 
LOCATION:Frankische Driehoek\, 5052 Goirle\, Nederland
DTSTART:20171021T070000Z
DTSTAMP:20260421T075313Z
ORGANIZER;CN=Website WTC De Hellen:MAILTO:webmaster@wtcdehellen.nl
GEO:51.526267;5.051304
X-APPLE-STRUCTURED-LOCATION;VALUE=URI;X-ADDRESS=Frankische Driehoek\, 5052 
 Goirle\, Nederland;X-APPLE-RADIUS=72;X-TITLE=De Deel:51.526267;5.051304
END:VEVENT
END:VCALENDAR